BEGIN:VCALENDAR
VERSION:2.0
PRODID:-//Musikverein Bornheim 1967 e.V. - ECPv6.15.12.2//NONSGML v1.0//EN
CALSCALE:GREGORIAN
METHOD:PUBLISH
X-WR-CALNAME:Musikverein Bornheim 1967 e.V.
X-ORIGINAL-URL:https://www.musikverein-bornheim.de
X-WR-CALDESC:Veranstaltungen für Musikverein Bornheim 1967 e.V.
REFRESH-INTERVAL;VALUE=DURATION:PT1H
X-Robots-Tag:noindex
X-PUBLISHED-TTL:PT1H
BEGIN:VTIMEZONE
TZID:Europe/Berlin
BEGIN:DAYLIGHT
TZOFFSETFROM:+0100
TZOFFSETTO:+0200
TZNAME:CEST
DTSTART:20240331T010000
END:DAYLIGHT
BEGIN:STANDARD
TZOFFSETFROM:+0200
TZOFFSETTO:+0100
TZNAME:CET
DTSTART:20241027T010000
END:STANDARD
BEGIN:DAYLIGHT
TZOFFSETFROM:+0100
TZOFFSETTO:+0200
TZNAME:CEST
DTSTART:20250330T010000
END:DAYLIGHT
BEGIN:STANDARD
TZOFFSETFROM:+0200
TZOFFSETTO:+0100
TZNAME:CET
DTSTART:20251026T010000
END:STANDARD
BEGIN:DAYLIGHT
TZOFFSETFROM:+0100
TZOFFSETTO:+0200
TZNAME:CEST
DTSTART:20260329T010000
END:DAYLIGHT
BEGIN:STANDARD
TZOFFSETFROM:+0200
TZOFFSETTO:+0100
TZNAME:CET
DTSTART:20261025T010000
END:STANDARD
BEGIN:DAYLIGHT
TZOFFSETFROM:+0100
TZOFFSETTO:+0200
TZNAME:CEST
DTSTART:20270328T010000
END:DAYLIGHT
BEGIN:STANDARD
TZOFFSETFROM:+0200
TZOFFSETTO:+0100
TZNAME:CET
DTSTART:20271031T010000
END:STANDARD
END:VTIMEZONE
BEGIN:VEVENT
DTSTART;TZID=Europe/Berlin:20260329T170000
DTEND;TZID=Europe/Berlin:20260329T183000
DTSTAMP:20260420T155745
CREATED:20251216T191725Z
LAST-MODIFIED:20251216T191725Z
UID:2553-1774803600-1774809000@www.musikverein-bornheim.de
SUMMARY:Frühlingskonzert
DESCRIPTION:
URL:https://www.musikverein-bornheim.de/veranstaltungen/fruehlingskonzert-3/
LOCATION:Brauhaus Kaiserhalle Bornheim\, Königstraße 58\, Bornheim\, 53332\, Deutschland
CATEGORIES:Termine
END:VEVENT
BEGIN:VEVENT
DTSTART;TZID=Europe/Berlin:20260327T193000
DTEND;TZID=Europe/Berlin:20260327T213000
DTSTAMP:20260420T155745
CREATED:20260129T115037Z
LAST-MODIFIED:20260129T115037Z
UID:2584-1774639800-1774647000@www.musikverein-bornheim.de
SUMMARY:Generalprobe
DESCRIPTION:
URL:https://www.musikverein-bornheim.de/veranstaltungen/generalprobe-9/
CATEGORIES:Termine
END:VEVENT
BEGIN:VEVENT
DTSTART;TZID=Europe/Berlin:20260320T193000
DTEND;TZID=Europe/Berlin:20260320T213000
DTSTAMP:20260420T155745
CREATED:20260129T114948Z
LAST-MODIFIED:20260129T114948Z
UID:2582-1774035000-1774042200@www.musikverein-bornheim.de
SUMMARY:Probe
DESCRIPTION:
URL:https://www.musikverein-bornheim.de/veranstaltungen/probe-207/
LOCATION:Pfarrzentrum\, Ohrbachstraße 26\, Bornheim\, 53332\, Deutschland
CATEGORIES:Termine
END:VEVENT
BEGIN:VEVENT
DTSTART;VALUE=DATE:20260313
DTEND;VALUE=DATE:20260316
DTSTAMP:20260420T155745
CREATED:20251216T191926Z
LAST-MODIFIED:20251216T191926Z
UID:2557-1773360000-1773619199@www.musikverein-bornheim.de
SUMMARY:Probewochenende
DESCRIPTION:
URL:https://www.musikverein-bornheim.de/veranstaltungen/probewochenende-6/
CATEGORIES:Termine
END:VEVENT
BEGIN:VEVENT
DTSTART;TZID=Europe/Berlin:20260306T193000
DTEND;TZID=Europe/Berlin:20260306T213000
DTSTAMP:20260420T155745
CREATED:20260129T114905Z
LAST-MODIFIED:20260129T114905Z
UID:2580-1772825400-1772832600@www.musikverein-bornheim.de
SUMMARY:Probe
DESCRIPTION:
URL:https://www.musikverein-bornheim.de/veranstaltungen/probe-206/
LOCATION:Pfarrzentrum\, Ohrbachstraße 26\, Bornheim\, 53332\, Deutschland
CATEGORIES:Termine
END:VEVENT
BEGIN:VEVENT
DTSTART;TZID=Europe/Berlin:20260227T193000
DTEND;TZID=Europe/Berlin:20260227T213000
DTSTAMP:20260420T155745
CREATED:20260129T114817Z
LAST-MODIFIED:20260129T114817Z
UID:2578-1772220600-1772227800@www.musikverein-bornheim.de
SUMMARY:Probe
DESCRIPTION:
URL:https://www.musikverein-bornheim.de/veranstaltungen/probe-205/
LOCATION:Pfarrzentrum\, Ohrbachstraße 26\, Bornheim\, 53332\, Deutschland
CATEGORIES:Termine
END:VEVENT
BEGIN:VEVENT
DTSTART;TZID=Europe/Berlin:20260220T193000
DTEND;TZID=Europe/Berlin:20260220T213000
DTSTAMP:20260420T155745
CREATED:20260129T114717Z
LAST-MODIFIED:20260129T114717Z
UID:2576-1771615800-1771623000@www.musikverein-bornheim.de
SUMMARY:Probe
DESCRIPTION:
URL:https://www.musikverein-bornheim.de/veranstaltungen/probe-204/
LOCATION:Pfarrzentrum\, Ohrbachstraße 26\, Bornheim\, 53332\, Deutschland
CATEGORIES:Termine
END:VEVENT
BEGIN:VEVENT
DTSTART;TZID=Europe/Berlin:20260217T140000
DTEND;TZID=Europe/Berlin:20260217T163000
DTSTAMP:20260420T155745
CREATED:20251216T192053Z
LAST-MODIFIED:20251216T192053Z
UID:2561-1771336800-1771345800@www.musikverein-bornheim.de
SUMMARY:Karnevalszug Alfter
DESCRIPTION:
URL:https://www.musikverein-bornheim.de/veranstaltungen/karnevalszug-alfter-6/
CATEGORIES:Termine
END:VEVENT
BEGIN:VEVENT
DTSTART;TZID=Europe/Berlin:20260216T120000
DTEND;TZID=Europe/Berlin:20260216T180000
DTSTAMP:20260420T155745
CREATED:20251216T192011Z
LAST-MODIFIED:20251216T192011Z
UID:2559-1771243200-1771264800@www.musikverein-bornheim.de
SUMMARY:Rosenmontagszug Bonn
DESCRIPTION:
URL:https://www.musikverein-bornheim.de/veranstaltungen/rosenmontagszug-bonn-5/
CATEGORIES:Termine
END:VEVENT
BEGIN:VEVENT
DTSTART;TZID=Europe/Berlin:20260215T140000
DTEND;TZID=Europe/Berlin:20260215T170000
DTSTAMP:20260420T155745
CREATED:20251216T191826Z
LAST-MODIFIED:20251216T191826Z
UID:2555-1771164000-1771174800@www.musikverein-bornheim.de
SUMMARY:Karnevalszug Bornheim
DESCRIPTION:
URL:https://www.musikverein-bornheim.de/veranstaltungen/karnevalszug-bornheim-6/
CATEGORIES:Termine
END:VEVENT
BEGIN:VEVENT
DTSTART;TZID=Europe/Berlin:20260207T140000
DTEND;TZID=Europe/Berlin:20260207T170000
DTSTAMP:20260420T155745
CREATED:20251216T192236Z
LAST-MODIFIED:20251216T192236Z
UID:2563-1770472800-1770483600@www.musikverein-bornheim.de
SUMMARY:Karnevalszug Sechtem
DESCRIPTION:
URL:https://www.musikverein-bornheim.de/veranstaltungen/karnevalszug-sechtem-6/
CATEGORIES:Termine
END:VEVENT
BEGIN:VEVENT
DTSTART;TZID=Europe/Berlin:20260206T193000
DTEND;TZID=Europe/Berlin:20260206T213000
DTSTAMP:20260420T155745
CREATED:20260129T114623Z
LAST-MODIFIED:20260129T114623Z
UID:2574-1770406200-1770413400@www.musikverein-bornheim.de
SUMMARY:Probe
DESCRIPTION:
URL:https://www.musikverein-bornheim.de/veranstaltungen/probe-203/
LOCATION:Pfarrzentrum\, Ohrbachstraße 26\, Bornheim\, 53332\, Deutschland
CATEGORIES:Termine
END:VEVENT
BEGIN:VEVENT
DTSTART;TZID=Europe/Berlin:20260130T193000
DTEND;TZID=Europe/Berlin:20260130T213000
DTSTAMP:20260420T155745
CREATED:20260129T114358Z
LAST-MODIFIED:20260129T114358Z
UID:2568-1769801400-1769808600@www.musikverein-bornheim.de
SUMMARY:Probe
DESCRIPTION:
URL:https://www.musikverein-bornheim.de/veranstaltungen/probe-200/
LOCATION:Pfarrzentrum\, Ohrbachstraße 26\, Bornheim\, 53332\, Deutschland
CATEGORIES:Termine
END:VEVENT
BEGIN:VEVENT
DTSTART;TZID=Europe/Berlin:20260123T193000
DTEND;TZID=Europe/Berlin:20260123T213000
DTSTAMP:20260420T155745
CREATED:20260129T114442Z
LAST-MODIFIED:20260129T114442Z
UID:2570-1769196600-1769203800@www.musikverein-bornheim.de
SUMMARY:Probe
DESCRIPTION:
URL:https://www.musikverein-bornheim.de/veranstaltungen/probe-201/
LOCATION:Pfarrzentrum\, Ohrbachstraße 26\, Bornheim\, 53332\, Deutschland
CATEGORIES:Termine
END:VEVENT
BEGIN:VEVENT
DTSTART;TZID=Europe/Berlin:20260116T193000
DTEND;TZID=Europe/Berlin:20260116T213000
DTSTAMP:20260420T155745
CREATED:20260129T114530Z
LAST-MODIFIED:20260129T114530Z
UID:2572-1768591800-1768599000@www.musikverein-bornheim.de
SUMMARY:Probe
DESCRIPTION:
URL:https://www.musikverein-bornheim.de/veranstaltungen/probe-202/
LOCATION:Pfarrzentrum\, Ohrbachstraße 26\, Bornheim\, 53332\, Deutschland
CATEGORIES:Termine
END:VEVENT
BEGIN:VEVENT
DTSTART;TZID=Europe/Berlin:20251214T170000
DTEND;TZID=Europe/Berlin:20251214T190000
DTSTAMP:20260420T155745
CREATED:20250105T185633Z
LAST-MODIFIED:20250105T185633Z
UID:2455-1765731600-1765738800@www.musikverein-bornheim.de
SUMMARY:Adventskonzert
DESCRIPTION:
URL:https://www.musikverein-bornheim.de/veranstaltungen/adventskonzert-2/
LOCATION:St. Servatius Kirche Bornheim\, Servatiusweg 35\, Bornheim\, 53332\, Deutschland
CATEGORIES:Termine
END:VEVENT
BEGIN:VEVENT
DTSTART;TZID=Europe/Berlin:20251205T193000
DTEND;TZID=Europe/Berlin:20251205T213000
DTSTAMP:20260420T155745
CREATED:20250903T090307Z
LAST-MODIFIED:20250903T090307Z
UID:2531-1764963000-1764970200@www.musikverein-bornheim.de
SUMMARY:Probe
DESCRIPTION:
URL:https://www.musikverein-bornheim.de/veranstaltungen/probe-199/
LOCATION:Pfarrzentrum\, Ohrbachstraße 26\, Bornheim\, 53332\, Deutschland
CATEGORIES:Termine
END:VEVENT
BEGIN:VEVENT
DTSTART;TZID=Europe/Berlin:20251128T193000
DTEND;TZID=Europe/Berlin:20251128T213000
DTSTAMP:20260420T155745
CREATED:20250903T090150Z
LAST-MODIFIED:20250903T090150Z
UID:2527-1764358200-1764365400@www.musikverein-bornheim.de
SUMMARY:Probe
DESCRIPTION:
URL:https://www.musikverein-bornheim.de/veranstaltungen/probe-197/
LOCATION:Pfarrzentrum\, Ohrbachstraße 26\, Bornheim\, 53332\, Deutschland
CATEGORIES:Termine
END:VEVENT
BEGIN:VEVENT
DTSTART;TZID=Europe/Berlin:20251121T193000
DTEND;TZID=Europe/Berlin:20251121T213000
DTSTAMP:20260420T155745
CREATED:20250903T090237Z
LAST-MODIFIED:20250903T090237Z
UID:2529-1763753400-1763760600@www.musikverein-bornheim.de
SUMMARY:Probe
DESCRIPTION:
URL:https://www.musikverein-bornheim.de/veranstaltungen/probe-198/
LOCATION:Pfarrzentrum\, Ohrbachstraße 26\, Bornheim\, 53332\, Deutschland
CATEGORIES:Termine
END:VEVENT
BEGIN:VEVENT
DTSTART;TZID=Europe/Berlin:20251114T193000
DTEND;TZID=Europe/Berlin:20251114T213000
DTSTAMP:20260420T155745
CREATED:20250903T090121Z
LAST-MODIFIED:20250903T090121Z
UID:2525-1763148600-1763155800@www.musikverein-bornheim.de
SUMMARY:Probe
DESCRIPTION:
URL:https://www.musikverein-bornheim.de/veranstaltungen/probe-196/
LOCATION:Pfarrzentrum\, Ohrbachstraße 26\, Bornheim\, 53332\, Deutschland
CATEGORIES:Termine
END:VEVENT
BEGIN:VEVENT
DTSTART;TZID=Europe/Berlin:20251111T180000
DTEND;TZID=Europe/Berlin:20251111T190000
DTSTAMP:20260420T155745
CREATED:20250903T084932Z
LAST-MODIFIED:20250903T084932Z
UID:2496-1762884000-1762887600@www.musikverein-bornheim.de
SUMMARY:Martinszug Bornheim
DESCRIPTION:
URL:https://www.musikverein-bornheim.de/veranstaltungen/martinszug-bornheim-8/
CATEGORIES:Termine
END:VEVENT
BEGIN:VEVENT
DTSTART;TZID=Europe/Berlin:20251108T093000
DTEND;TZID=Europe/Berlin:20251108T130000
DTSTAMP:20260420T155745
CREATED:20250903T085240Z
LAST-MODIFIED:20250903T085240Z
UID:2504-1762594200-1762606800@www.musikverein-bornheim.de
SUMMARY:Patronatsfests St. Hubertus Schützenbruderschaft Bornheim
DESCRIPTION:
URL:https://www.musikverein-bornheim.de/veranstaltungen/patronatsfests-st-hubertus-schuetzenbruderschaft-bornheim/
LOCATION:Pfarrzentrum\, Ohrbachstraße 26\, Bornheim\, 53332\, Deutschland
CATEGORIES:Termine
END:VEVENT
BEGIN:VEVENT
DTSTART;TZID=Europe/Berlin:20251107T200000
DTEND;TZID=Europe/Berlin:20251107T220000
DTSTAMP:20260420T155745
CREATED:20250903T090051Z
LAST-MODIFIED:20250903T090051Z
UID:2523-1762545600-1762552800@www.musikverein-bornheim.de
SUMMARY:Probe
DESCRIPTION:
URL:https://www.musikverein-bornheim.de/veranstaltungen/probe-195/
LOCATION:Pfarrzentrum\, Ohrbachstraße 26\, Bornheim\, 53332\, Deutschland
CATEGORIES:Termine
END:VEVENT
BEGIN:VEVENT
DTSTART;TZID=Europe/Berlin:20251107T180000
DTEND;TZID=Europe/Berlin:20251107T190000
DTSTAMP:20260420T155745
CREATED:20250903T085001Z
LAST-MODIFIED:20250903T085001Z
UID:2498-1762538400-1762542000@www.musikverein-bornheim.de
SUMMARY:Martinszug Buschdorf
DESCRIPTION:
URL:https://www.musikverein-bornheim.de/veranstaltungen/martinszug-buschdorf-8/
CATEGORIES:Termine
END:VEVENT
BEGIN:VEVENT
DTSTART;TZID=Europe/Berlin:20251106T180000
DTEND;TZID=Europe/Berlin:20251106T190000
DTSTAMP:20260420T155745
CREATED:20250903T085032Z
LAST-MODIFIED:20250903T085032Z
UID:2500-1762452000-1762455600@www.musikverein-bornheim.de
SUMMARY:Martinszug Brenig
DESCRIPTION:
URL:https://www.musikverein-bornheim.de/veranstaltungen/martinszug-brenig-7/
CATEGORIES:Termine
END:VEVENT
BEGIN:VEVENT
DTSTART;TZID=Europe/Berlin:20251104T180000
DTEND;TZID=Europe/Berlin:20251104T190000
DTSTAMP:20260420T155745
CREATED:20250903T085108Z
LAST-MODIFIED:20250903T085108Z
UID:2502-1762279200-1762282800@www.musikverein-bornheim.de
SUMMARY:Martinszug Merten
DESCRIPTION:
URL:https://www.musikverein-bornheim.de/veranstaltungen/martinszug-merten-8/
CATEGORIES:Termine
END:VEVENT
BEGIN:VEVENT
DTSTART;TZID=Europe/Berlin:20251031T193000
DTEND;TZID=Europe/Berlin:20251031T213000
DTSTAMP:20260420T155745
CREATED:20250903T090020Z
LAST-MODIFIED:20250903T090020Z
UID:2521-1761939000-1761946200@www.musikverein-bornheim.de
SUMMARY:Probe
DESCRIPTION:
URL:https://www.musikverein-bornheim.de/veranstaltungen/probe-194/
LOCATION:Pfarrzentrum\, Ohrbachstraße 26\, Bornheim\, 53332\, Deutschland
CATEGORIES:Termine
END:VEVENT
BEGIN:VEVENT
DTSTART;TZID=Europe/Berlin:20251024T193000
DTEND;TZID=Europe/Berlin:20251024T213000
DTSTAMP:20260420T155745
CREATED:20250903T085948Z
LAST-MODIFIED:20250903T085948Z
UID:2519-1761334200-1761341400@www.musikverein-bornheim.de
SUMMARY:Probe
DESCRIPTION:
URL:https://www.musikverein-bornheim.de/veranstaltungen/probe-193/
LOCATION:Pfarrzentrum\, Ohrbachstraße 26\, Bornheim\, 53332\, Deutschland
CATEGORIES:Termine
END:VEVENT
BEGIN:VEVENT
DTSTART;TZID=Europe/Berlin:20251017T193000
DTEND;TZID=Europe/Berlin:20251017T213000
DTSTAMP:20260420T155745
CREATED:20250903T085629Z
LAST-MODIFIED:20250903T085629Z
UID:2514-1760729400-1760736600@www.musikverein-bornheim.de
SUMMARY:Probe
DESCRIPTION:
URL:https://www.musikverein-bornheim.de/veranstaltungen/probe-192/
LOCATION:Pfarrzentrum\, Ohrbachstraße 26\, Bornheim\, 53332\, Deutschland
CATEGORIES:Termine
END:VEVENT
BEGIN:VEVENT
DTSTART;TZID=Europe/Berlin:20251010T193000
DTEND;TZID=Europe/Berlin:20251010T213000
DTSTAMP:20260420T155745
CREATED:20250903T085548Z
LAST-MODIFIED:20250903T085548Z
UID:2512-1760124600-1760131800@www.musikverein-bornheim.de
SUMMARY:Probe
DESCRIPTION:
URL:https://www.musikverein-bornheim.de/veranstaltungen/probe-191/
LOCATION:Pfarrzentrum\, Ohrbachstraße 26\, Bornheim\, 53332\, Deutschland
CATEGORIES:Termine
END:VEVENT
END:VCALENDAR