BEGIN:VCALENDAR
VERSION:2.0
PRODID:-//Musikverein Bornheim 1967 e.V. - ECPv6.15.12.2//NONSGML v1.0//EN
CALSCALE:GREGORIAN
METHOD:PUBLISH
X-ORIGINAL-URL:https://www.musikverein-bornheim.de
X-WR-CALDESC:Veranstaltungen für Musikverein Bornheim 1967 e.V.
REFRESH-INTERVAL;VALUE=DURATION:PT1H
X-Robots-Tag:noindex
X-PUBLISHED-TTL:PT1H
BEGIN:VTIMEZONE
TZID:Europe/Berlin
BEGIN:DAYLIGHT
TZOFFSETFROM:+0100
TZOFFSETTO:+0200
TZNAME:CEST
DTSTART:20140330T010000
END:DAYLIGHT
BEGIN:STANDARD
TZOFFSETFROM:+0200
TZOFFSETTO:+0100
TZNAME:CET
DTSTART:20141026T010000
END:STANDARD
BEGIN:DAYLIGHT
TZOFFSETFROM:+0100
TZOFFSETTO:+0200
TZNAME:CEST
DTSTART:20150329T010000
END:DAYLIGHT
BEGIN:STANDARD
TZOFFSETFROM:+0200
TZOFFSETTO:+0100
TZNAME:CET
DTSTART:20151025T010000
END:STANDARD
BEGIN:DAYLIGHT
TZOFFSETFROM:+0100
TZOFFSETTO:+0200
TZNAME:CEST
DTSTART:20160327T010000
END:DAYLIGHT
BEGIN:STANDARD
TZOFFSETFROM:+0200
TZOFFSETTO:+0100
TZNAME:CET
DTSTART:20161030T010000
END:STANDARD
END:VTIMEZONE
BEGIN:VEVENT
DTSTART;VALUE=DATE:20151225
DTEND;VALUE=DATE:20151226
DTSTAMP:20260421T065041
CREATED:20170720T093517Z
LAST-MODIFIED:20170726T093705Z
UID:138-1451001600-1451087999@www.musikverein-bornheim.de
SUMMARY:13.12.2015 - GA Bonn Weihnachtskonzert
DESCRIPTION:Besinnlich-fröhliche Konzerte – Der „Stern von Bethlehem“ leuchtet schon\nBORNHEIM Traditionell lädt die Schützenkapelle Bornheim am dritten Advent zum vorweihnachtlichen Kirchenkonzert in die katholische Pfarrkirche Sankt Servatius in Bornheim ein. Anders als in den Vorjahren\, folgten die rund 28 Musiker am Sonntag dem Dirigat von Jakob Gaede. Der Absolvent der Musikhochschule Köln war für den erkrankten Werner Knaus eingesprungen und meisterte seine Aufgabe hervorragend. Sicher führte er die Musiker durch klassische\, besinnliche Stücke und ließ mit Songs wie „I do it for you“ von Bryan Adams\, „All I want for Christmas is you“ von Mariah Carey oder „Only time“ von Enya auch stimmungsvolles\, modernes Liedgut erklingen. \n„Bereits im Spätsommer haben wir mit den Proben begonnen und konnten unsere Wünsche in das Programm einfließen lassen“\, berichtete Schriftführerin Birgit Krauß. Auch die jüngsten Mitglieder der Schützenkapelle hatten sich bestens auf das Konzert vorbereitet: Unter der Leitung von Heike Plattner luden die sechs Nachwuchsmusiker im Alter zwischen fünf und sieben Jahren unter anderem in die „Weihnachtsbäckerei“ ein. \nUnterstützt wurde die Schützenkapelle durch das Posaunentrio\, bestehend aus Josef Schmidt\, Heike Plattner und Daniel Salchow\, das mit „Kling\, Glöckchen\, klingelingeling“\, „Kommet ihr Hirten“ und „Engel auf den Feldern singen“ auf Weihnachten einstimmte. \n„Lasst uns die Türen nicht verschließen\, denn der Advent öffnet sie“\, sagte Michaela Kühlwetter\, die mit adventlichen Texten und Gedichten durch das Programm führte. Mit „Tochter Zion“ lieferten die Musiker einen ebenso ergreifenden wie imposanten Abschluss des Konzertes\, das um die Zugabe „Stern über Bethlehem“ erweitert wurde. \nQuelle: General-Anzeiger Bonn / Artikel vom 15.12.2015 / Von wso / Foto: Roland Kohls \nBesinnlich-fröhliche Konzerte\, Der „Stern von Bethlehem“ leuchtet schon | GA-Bonn
URL:https://www.musikverein-bornheim.de/veranstaltungen/13-12-2015-ga-bonn-weihnachtskonzert/
CATEGORIES:Termine
ATTACH;FMTTYPE=image/jpeg:https://www.musikverein-bornheim.de/wp-content/uploads/2017/07/ga-weihnachten2015.jpg
END:VEVENT
END:VCALENDAR