BEGIN:VCALENDAR
VERSION:2.0
PRODID:-//Musikverein Bornheim 1967 e.V. - ECPv6.15.12.2//NONSGML v1.0//EN
CALSCALE:GREGORIAN
METHOD:PUBLISH
X-WR-CALNAME:Musikverein Bornheim 1967 e.V.
X-ORIGINAL-URL:https://www.musikverein-bornheim.de
X-WR-CALDESC:Veranstaltungen für Musikverein Bornheim 1967 e.V.
REFRESH-INTERVAL;VALUE=DURATION:PT1H
X-Robots-Tag:noindex
X-PUBLISHED-TTL:PT1H
BEGIN:VTIMEZONE
TZID:Europe/Berlin
BEGIN:DAYLIGHT
TZOFFSETFROM:+0100
TZOFFSETTO:+0200
TZNAME:CEST
DTSTART:20250330T010000
END:DAYLIGHT
BEGIN:STANDARD
TZOFFSETFROM:+0200
TZOFFSETTO:+0100
TZNAME:CET
DTSTART:20251026T010000
END:STANDARD
BEGIN:DAYLIGHT
TZOFFSETFROM:+0100
TZOFFSETTO:+0200
TZNAME:CEST
DTSTART:20260329T010000
END:DAYLIGHT
BEGIN:STANDARD
TZOFFSETFROM:+0200
TZOFFSETTO:+0100
TZNAME:CET
DTSTART:20261025T010000
END:STANDARD
BEGIN:DAYLIGHT
TZOFFSETFROM:+0100
TZOFFSETTO:+0200
TZNAME:CEST
DTSTART:20270328T010000
END:DAYLIGHT
BEGIN:STANDARD
TZOFFSETFROM:+0200
TZOFFSETTO:+0100
TZNAME:CET
DTSTART:20271031T010000
END:STANDARD
END:VTIMEZONE
BEGIN:VEVENT
DTSTART;TZID=Europe/Berlin:20260206T193000
DTEND;TZID=Europe/Berlin:20260206T213000
DTSTAMP:20260420T204032
CREATED:20260129T114623Z
LAST-MODIFIED:20260129T114623Z
UID:2574-1770406200-1770413400@www.musikverein-bornheim.de
SUMMARY:Probe
DESCRIPTION:
URL:https://www.musikverein-bornheim.de/veranstaltungen/probe-203/
LOCATION:Pfarrzentrum\, Ohrbachstraße 26\, Bornheim\, 53332\, Deutschland
CATEGORIES:Termine
END:VEVENT
BEGIN:VEVENT
DTSTART;TZID=Europe/Berlin:20260207T140000
DTEND;TZID=Europe/Berlin:20260207T170000
DTSTAMP:20260420T204032
CREATED:20251216T192236Z
LAST-MODIFIED:20251216T192236Z
UID:2563-1770472800-1770483600@www.musikverein-bornheim.de
SUMMARY:Karnevalszug Sechtem
DESCRIPTION:
URL:https://www.musikverein-bornheim.de/veranstaltungen/karnevalszug-sechtem-6/
CATEGORIES:Termine
END:VEVENT
BEGIN:VEVENT
DTSTART;TZID=Europe/Berlin:20260215T140000
DTEND;TZID=Europe/Berlin:20260215T170000
DTSTAMP:20260420T204032
CREATED:20251216T191826Z
LAST-MODIFIED:20251216T191826Z
UID:2555-1771164000-1771174800@www.musikverein-bornheim.de
SUMMARY:Karnevalszug Bornheim
DESCRIPTION:
URL:https://www.musikverein-bornheim.de/veranstaltungen/karnevalszug-bornheim-6/
CATEGORIES:Termine
END:VEVENT
BEGIN:VEVENT
DTSTART;TZID=Europe/Berlin:20260216T120000
DTEND;TZID=Europe/Berlin:20260216T180000
DTSTAMP:20260420T204032
CREATED:20251216T192011Z
LAST-MODIFIED:20251216T192011Z
UID:2559-1771243200-1771264800@www.musikverein-bornheim.de
SUMMARY:Rosenmontagszug Bonn
DESCRIPTION:
URL:https://www.musikverein-bornheim.de/veranstaltungen/rosenmontagszug-bonn-5/
CATEGORIES:Termine
END:VEVENT
BEGIN:VEVENT
DTSTART;TZID=Europe/Berlin:20260217T140000
DTEND;TZID=Europe/Berlin:20260217T163000
DTSTAMP:20260420T204032
CREATED:20251216T192053Z
LAST-MODIFIED:20251216T192053Z
UID:2561-1771336800-1771345800@www.musikverein-bornheim.de
SUMMARY:Karnevalszug Alfter
DESCRIPTION:
URL:https://www.musikverein-bornheim.de/veranstaltungen/karnevalszug-alfter-6/
CATEGORIES:Termine
END:VEVENT
BEGIN:VEVENT
DTSTART;TZID=Europe/Berlin:20260220T193000
DTEND;TZID=Europe/Berlin:20260220T213000
DTSTAMP:20260420T204032
CREATED:20260129T114717Z
LAST-MODIFIED:20260129T114717Z
UID:2576-1771615800-1771623000@www.musikverein-bornheim.de
SUMMARY:Probe
DESCRIPTION:
URL:https://www.musikverein-bornheim.de/veranstaltungen/probe-204/
LOCATION:Pfarrzentrum\, Ohrbachstraße 26\, Bornheim\, 53332\, Deutschland
CATEGORIES:Termine
END:VEVENT
BEGIN:VEVENT
DTSTART;TZID=Europe/Berlin:20260227T193000
DTEND;TZID=Europe/Berlin:20260227T213000
DTSTAMP:20260420T204032
CREATED:20260129T114817Z
LAST-MODIFIED:20260129T114817Z
UID:2578-1772220600-1772227800@www.musikverein-bornheim.de
SUMMARY:Probe
DESCRIPTION:
URL:https://www.musikverein-bornheim.de/veranstaltungen/probe-205/
LOCATION:Pfarrzentrum\, Ohrbachstraße 26\, Bornheim\, 53332\, Deutschland
CATEGORIES:Termine
END:VEVENT
END:VCALENDAR